BEGIN:VCALENDAR
VERSION:2.0
PRODID:-//Riva Media - ECPv6.15.17.1//NONSGML v1.0//EN
CALSCALE:GREGORIAN
METHOD:PUBLISH
X-WR-CALNAME:Riva Media
X-ORIGINAL-URL:https://www.rivamedia.co.uk
X-WR-CALDESC:Events for Riva Media
REFRESH-INTERVAL;VALUE=DURATION:PT1H
X-Robots-Tag:noindex
X-PUBLISHED-TTL:PT1H
BEGIN:VTIMEZONE
TZID:UTC
BEGIN:STANDARD
TZOFFSETFROM:+0000
TZOFFSETTO:+0000
TZNAME:UTC
DTSTART:20230101T000000
END:STANDARD
END:VTIMEZONE
BEGIN:VEVENT
DTSTART;TZID=UTC:20240320T080000
DTEND;TZID=UTC:20240321T170000
DTSTAMP:20260424T102942
CREATED:20240213T123312Z
LAST-MODIFIED:20240213T123312Z
UID:11047-1710921600-1711040400@www.rivamedia.co.uk
SUMMARY:UK Concrete Show 2024
DESCRIPTION:The UK Concrete Show returns for its 12th edition this March and is the only standalone exhibition dedicated to the concrete industry. \nLocated in the centre of the country at the NEC in Birmingham\, The UK Concrete Show takes place annually\, and provides an unrivalled platform for exhibitors to meet key decision makers from across the concrete supply chain.
URL:https://www.rivamedia.co.uk/event/uk-concrete-show-2024/
END:VEVENT
BEGIN:VEVENT
DTSTART;TZID=UTC:20240314T080000
DTEND;TZID=UTC:20240314T170000
DTSTAMP:20260424T102942
CREATED:20240213T122746Z
LAST-MODIFIED:20240215T145032Z
UID:11045-1710403200-1710435600@www.rivamedia.co.uk
SUMMARY:The Norwegian Shipowners' Associations Annual Conference 2024
DESCRIPTION:The Norwegian Shipping Association is the leading employer\, contingency and interest organization for Norwegian-affiliated shipping companies.
URL:https://www.rivamedia.co.uk/event/the-norwegian-shipowners-associations-annual-conference-2024/
END:VEVENT
BEGIN:VEVENT
DTSTART;TZID=UTC:20240312T080000
DTEND;TZID=UTC:20240313T170000
DTSTAMP:20260424T102942
CREATED:20240213T122628Z
LAST-MODIFIED:20240215T144818Z
UID:11043-1710230400-1710349200@www.rivamedia.co.uk
SUMMARY:Retail Week Live 2024
DESCRIPTION:From people\, to performance\, to planet and products\, LIVE 2024 will create\, curate and champion the great narratives\, the great ideas and the great personalities from across UK retail and FMCG. \nRetail Week Live has\, for years\, been the leading retail gathering where ideas are shared\, strategies are debated and solutions are formed. We create a space that stimulates conversation and collisions – of both ideas and people. \nIn 2024\, for the first time ever\, Retail Week will be collaborating with The Grocer\, the market-leading weekly magazine covering the FMCG sector. Bigger and better than ever\, over two-days the brightest and most curious minds across retail and FMCG will talk openly about the things that matter. \nJoin us as we bring the art of storytelling to the heart of retail and FMCG.
URL:https://www.rivamedia.co.uk/event/retail-week-live-2024/
END:VEVENT
BEGIN:VEVENT
DTSTART;TZID=UTC:20240312T080000
DTEND;TZID=UTC:20240312T170000
DTSTAMP:20260424T102942
CREATED:20240213T122509Z
LAST-MODIFIED:20240215T144714Z
UID:11041-1710230400-1710262800@www.rivamedia.co.uk
SUMMARY:Smarter Payments Summit 2024
DESCRIPTION:A highly focused event that brings together senior payment transaction professionals and suppliers. The summit consists of one-to-one business meetings\, interactive seminars and valuable networking opportunities – all to enable you to create lasting business relationships.\nFrom apps to mwallets; transaction loss prevention to contactless; emv solutions to smart cards – the smarter payments summit covers all areas of transaction technology.
URL:https://www.rivamedia.co.uk/event/smarter-payments-summit-2024/
END:VEVENT
BEGIN:VEVENT
DTSTART;TZID=UTC:20240308T080000
DTEND;TZID=UTC:20240316T170000
DTSTAMP:20260424T102942
CREATED:20240213T124833Z
LAST-MODIFIED:20240213T124833Z
UID:11056-1709884800-1710608400@www.rivamedia.co.uk
SUMMARY:SXSW 2024
DESCRIPTION:Location: Austin\, Texas \nOne of the most significant startup conferences of the year – SXSW known as South by Southwest is a tech extravaganza. This must-attend event provides an exceptional opportunity to connect with like-minded professionals in the creative and tech sectors. Additionally\, attendees will have the chance to listen to insights from renowned tech influencers like Scott Galloway and Kara Swisher.
URL:https://www.rivamedia.co.uk/event/sxsw-2024/
END:VEVENT
BEGIN:VEVENT
DTSTART;TZID=UTC:20240308T080000
DTEND;TZID=UTC:20240308T170000
DTSTAMP:20260424T102942
CREATED:20240212T113531Z
LAST-MODIFIED:20240212T113531Z
UID:11030-1709884800-1709917200@www.rivamedia.co.uk
SUMMARY:International Women's Day
DESCRIPTION:Diversity\, STEM and Business are among popular themes for International Women’s Day 2024 on Friday 8th March
URL:https://www.rivamedia.co.uk/event/international-womens-day/
END:VEVENT
BEGIN:VEVENT
DTSTART;TZID=UTC:20240306T080000
DTEND;TZID=UTC:20240307T170000
DTSTAMP:20260424T102942
CREATED:20240214T141145Z
LAST-MODIFIED:20240214T141145Z
UID:11077-1709712000-1709830800@www.rivamedia.co.uk
SUMMARY:Tech Show London
DESCRIPTION:Explore British innovation at this colossal tech event in London with over 14\,000 attendees. \nOver two days\, visitors can experience networking opportunities at five co-located and relevant events\, including: \n\nBig Data & AI World\nCloud Expo Europe London 2024\nCloud & Cyber Security Expo\nData Centre World 2024\nDevOps Live\n\nFrom combating cybercrime at the Cyber Security Expo to staying updated with the latest news in big data\, this event is the perfect opportunity to achieve your business goals\, no matter your tech sector.
URL:https://www.rivamedia.co.uk/event/tech-show-london/
END:VEVENT
BEGIN:VEVENT
DTSTART;TZID=UTC:20240226T080000
DTEND;TZID=UTC:20240229T170000
DTSTAMP:20260424T102942
CREATED:20240212T113732Z
LAST-MODIFIED:20240212T113817Z
UID:11032-1708934400-1709226000@www.rivamedia.co.uk
SUMMARY:MWC Barcelona
DESCRIPTION:The world’s largest and most influential connectivity event
URL:https://www.rivamedia.co.uk/event/mwc-barcelona/
LOCATION:Fira Gran Via\, Barcelona
END:VEVENT
END:VCALENDAR